BEGIN:VCALENDAR
VERSION:2.0
PRODID:-//Office of Advanced Research Computing - ECPv6.0.10//NONSGML v1.0//EN
CALSCALE:GREGORIAN
METHOD:PUBLISH
X-ORIGINAL-URL:https://oarc.rutgers.edu
X-WR-CALDESC:Events for Office of Advanced Research Computing
REFRESH-INTERVAL;VALUE=DURATION:PT1H
X-Robots-Tag:noindex
X-PUBLISHED-TTL:PT1H
BEGIN:VTIMEZONE
TZID:America/New_York
BEGIN:DAYLIGHT
TZOFFSETFROM:-0500
TZOFFSETTO:-0400
TZNAME:EDT
DTSTART:20220313T070000
END:DAYLIGHT
BEGIN:STANDARD
TZOFFSETFROM:-0400
TZOFFSETTO:-0500
TZNAME:EST
DTSTART:20221106T060000
END:STANDARD
END:VTIMEZONE
BEGIN:VEVENT
DTSTART;TZID=America/New_York:20221028T140000
DTEND;TZID=America/New_York:20221028T160000
DTSTAMP:20260420T005257
CREATED:20220809T193031Z
LAST-MODIFIED:20221128T162259Z
UID:7429-1666965600-1666972800@oarc.rutgers.edu
SUMMARY:Data Visualization with Python - Part 1
DESCRIPTION:Workshop content: This workshop provides hands-on training on how to utilize packages like numpy\, pandas\, matplotlib\, plotly\, etc. to store\, process\, and visualize data. \nIf you have questions or need help\, please email Bala Desinghu. \nAmarel account: Apply here as soon as possible. You must have an Amarel account set up before the workshop. \nVPN setup: You have to be connected on Rutgers’ network or be on VPN to access Amarel resources. \nSSH setup: Windows users must install an SSH client like PuTTY or MobaXterm. Alternatively\, Windows 10 users can install the complete Windows Subsystem for Linux. \nRegister to attend the workshop:
URL:https://oarc.rutgers.edu/event/data-visualization-with-python-10-28-22/
END:VEVENT
END:VCALENDAR