BEGIN:VCALENDAR
VERSION:2.0
PRODID:-//Office of Advanced Research Computing - ECPv6.0.10//NONSGML v1.0//EN
CALSCALE:GREGORIAN
METHOD:PUBLISH
X-ORIGINAL-URL:https://oarc.rutgers.edu
X-WR-CALDESC:Events for Office of Advanced Research Computing
REFRESH-INTERVAL;VALUE=DURATION:PT1H
X-Robots-Tag:noindex
X-PUBLISHED-TTL:PT1H
BEGIN:VTIMEZONE
TZID:America/New_York
BEGIN:DAYLIGHT
TZOFFSETFROM:-0500
TZOFFSETTO:-0400
TZNAME:EDT
DTSTART:20220313T070000
END:DAYLIGHT
BEGIN:STANDARD
TZOFFSETFROM:-0400
TZOFFSETTO:-0500
TZNAME:EST
DTSTART:20221106T060000
END:STANDARD
END:VTIMEZONE
BEGIN:VEVENT
DTSTART;TZID=America/New_York:20221116T160000
DTEND;TZID=America/New_York:20221116T180000
DTSTAMP:20260420T172727
CREATED:20221103T141457Z
LAST-MODIFIED:20221103T141958Z
UID:7979-1668614400-1668621600@oarc.rutgers.edu
SUMMARY:Rutgers Humanitarian GIS Day Mapathon
DESCRIPTION:Mapathon on GIS (geographic information systems) Day during National Geography Awareness Week\, allows students to help create maps of high vulnerability areas where data is scarce\, enabling disaster responders to reach those in need. \n			\n				More information and registration
URL:https://oarc.rutgers.edu/event/rutgers-humanitarian-gis-day-mapathon/
END:VEVENT
END:VCALENDAR