BEGIN:VCALENDAR
VERSION:2.0
PRODID:-//Office of Advanced Research Computing - ECPv6.0.10//NONSGML v1.0//EN
CALSCALE:GREGORIAN
METHOD:PUBLISH
X-WR-CALNAME:Office of Advanced Research Computing
X-ORIGINAL-URL:https://oarc.rutgers.edu
X-WR-CALDESC:Events for Office of Advanced Research Computing
REFRESH-INTERVAL;VALUE=DURATION:PT1H
X-Robots-Tag:noindex
X-PUBLISHED-TTL:PT1H
BEGIN:VTIMEZONE
TZID:America/New_York
BEGIN:DAYLIGHT
TZOFFSETFROM:-0500
TZOFFSETTO:-0400
TZNAME:EDT
DTSTART:20230312T070000
END:DAYLIGHT
BEGIN:STANDARD
TZOFFSETFROM:-0400
TZOFFSETTO:-0500
TZNAME:EST
DTSTART:20231105T060000
END:STANDARD
END:VTIMEZONE
BEGIN:VEVENT
DTSTART;TZID=America/New_York:20231102T133000
DTEND;TZID=America/New_York:20231102T150000
DTSTAMP:20260423T123739
CREATED:20221007T190909Z
LAST-MODIFIED:20231013T174619Z
UID:7850-1698931800-1698937200@oarc.rutgers.edu
SUMMARY:Machine Learning: Decision Trees and Random Forests
DESCRIPTION:This workshop will give an introduction to machine learning methods with decision trees and random forests. \nSupplemental materials are available at https://libguides.rutgers.edu/datascience/python \n​ \n			\n				Learn more and register
URL:https://oarc.rutgers.edu/event/11-2-23/
END:VEVENT
BEGIN:VEVENT
DTSTART;TZID=America/New_York:20231102T153000
DTEND;TZID=America/New_York:20231102T163000
DTSTAMP:20260423T123739
CREATED:20221007T191124Z
LAST-MODIFIED:20231013T205812Z
UID:7854-1698939000-1698942600@oarc.rutgers.edu
SUMMARY:Evidence Synthesis in the Social Sciences
DESCRIPTION:Systematic\, Scoping\, and Literature Reviews\, Oh My! An Introduction to Evidence Synthesis in the Social Sciences \nAre you a social science faculty member or graduate student interested in learning about systematic or scoping reviews? Are you curious about what these methods entail? This workshop is for you! \nEvidence synthesis methods are growing in popularity among social science disciplines\, but many faculty and students aren’t sure of the steps\, tools\, resources\, or types of methods used in an evidence synthesis project. This workshop will provide a broad overview of the concepts behind evidence synthesis\, so that you can approach future projects with confidence. \nYou will also have the opportunity to provide valuable feedback on this workshop\, which will inform future evidence synthesis library workshops and support. \nThis workshop is part of a series on Evidence Synthesis in the Social Sciences. \n			\n				Learn more and register
URL:https://oarc.rutgers.edu/event/11-2-23-systematic-scoping-literature-reviews/
END:VEVENT
END:VCALENDAR