BEGIN:VCALENDAR
VERSION:2.0
PRODID:-//Office of Advanced Research Computing - ECPv6.0.10//NONSGML v1.0//EN
CALSCALE:GREGORIAN
METHOD:PUBLISH
X-ORIGINAL-URL:https://oarc.rutgers.edu
X-WR-CALDESC:Events for Office of Advanced Research Computing
REFRESH-INTERVAL;VALUE=DURATION:PT1H
X-Robots-Tag:noindex
X-PUBLISHED-TTL:PT1H
BEGIN:VTIMEZONE
TZID:America/New_York
BEGIN:DAYLIGHT
TZOFFSETFROM:-0500
TZOFFSETTO:-0400
TZNAME:EDT
DTSTART:20240310T070000
END:DAYLIGHT
BEGIN:STANDARD
TZOFFSETFROM:-0400
TZOFFSETTO:-0500
TZNAME:EST
DTSTART:20241103T060000
END:STANDARD
END:VTIMEZONE
BEGIN:VEVENT
DTSTART;TZID=America/New_York:20240212T120000
DTEND;TZID=America/New_York:20240212T131500
DTSTAMP:20260420T193516
CREATED:20231218T124043Z
LAST-MODIFIED:20240118T201226Z
UID:9605-1707739200-1707743700@oarc.rutgers.edu
SUMMARY:Love Data Week!  Finding\, Creating and Working with GIS Data
DESCRIPTION:Location can play an important part in your research. “Everything happens somewhere…” \nIn this short\, interactive workshop\, we’ll learn about spatial data\, explore GIS (geographic information systems) data resources and search strategies\, review critical data literacy and attribution information\, and discuss building spatial datasets. \n			\n				Learn more and register
URL:https://oarc.rutgers.edu/event/love-data-week-working-with-gis-data/
END:VEVENT
END:VCALENDAR