BEGIN:VCALENDAR
VERSION:2.0
PRODID:-//Office of Advanced Research Computing - ECPv6.0.10//NONSGML v1.0//EN
CALSCALE:GREGORIAN
METHOD:PUBLISH
X-ORIGINAL-URL:https://oarc.rutgers.edu
X-WR-CALDESC:Events for Office of Advanced Research Computing
REFRESH-INTERVAL;VALUE=DURATION:PT1H
X-Robots-Tag:noindex
X-PUBLISHED-TTL:PT1H
BEGIN:VTIMEZONE
TZID:America/New_York
BEGIN:DAYLIGHT
TZOFFSETFROM:-0500
TZOFFSETTO:-0400
TZNAME:EDT
DTSTART:20240310T070000
END:DAYLIGHT
BEGIN:STANDARD
TZOFFSETFROM:-0400
TZOFFSETTO:-0500
TZNAME:EST
DTSTART:20241103T060000
END:STANDARD
END:VTIMEZONE
BEGIN:VEVENT
DTSTART;TZID=America/New_York:20240328T160000
DTEND;TZID=America/New_York:20240328T173000
DTSTAMP:20260420T133930
CREATED:20240119T140301Z
LAST-MODIFIED:20240119T140634Z
UID:9815-1711641600-1711647000@oarc.rutgers.edu
SUMMARY:Introduction to deep learning
DESCRIPTION:This workshop offers an introduction to the fundamentals of deep learning\, a highly influential branch of artificial intelligence. This session focuses on the core concepts of neural networks\, including feedforward neural networks\, the simplest type of artificial neural network architecture. The course also covers convolutional neural networks (CNNs)\, essential for image and video recognition\, and recurrent neural networks (RNNs)\, which are crucial for handling sequential data like text and speech. \n			\n				Learn more and register
URL:https://oarc.rutgers.edu/event/introduction-to-deep-learning/
END:VEVENT
END:VCALENDAR