BEGIN:VCALENDAR
VERSION:2.0
PRODID:-//Office of Advanced Research Computing - ECPv6.0.10//NONSGML v1.0//EN
CALSCALE:GREGORIAN
METHOD:PUBLISH
X-ORIGINAL-URL:https://oarc.rutgers.edu
X-WR-CALDESC:Events for Office of Advanced Research Computing
REFRESH-INTERVAL;VALUE=DURATION:PT1H
X-Robots-Tag:noindex
X-PUBLISHED-TTL:PT1H
BEGIN:VTIMEZONE
TZID:America/New_York
BEGIN:DAYLIGHT
TZOFFSETFROM:-0500
TZOFFSETTO:-0400
TZNAME:EDT
DTSTART:20250309T070000
END:DAYLIGHT
BEGIN:STANDARD
TZOFFSETFROM:-0400
TZOFFSETTO:-0500
TZNAME:EST
DTSTART:20251102T060000
END:STANDARD
END:VTIMEZONE
BEGIN:VEVENT
DTSTART;TZID=America/New_York:20251007T113000
DTEND;TZID=America/New_York:20251007T130000
DTSTAMP:20260423T203407
CREATED:20250110T211614Z
LAST-MODIFIED:20250915T155845Z
UID:11431-1759836600-1759842000@oarc.rutgers.edu
SUMMARY:ArcGIS StoryMaps\, WebApps and Dashboards
DESCRIPTION:Most people can relate to and understand “where” when sharing information. In this short\, interactive workshop\, we will explore telling the story of your research using StoryMaps or another of the web applications that integrate work done in ArcGIS Online. Previous knowledge of geographic information systems (GIS) is not required. \n*Make sure to register for an ArcGIS Online account before the start of the workshop. \n			\n				Learn more and register
URL:https://oarc.rutgers.edu/event/arcgis-storymaps-webapps-and-dashboards/
END:VEVENT
BEGIN:VEVENT
DTSTART;TZID=America/New_York:20251007T140000
DTEND;TZID=America/New_York:20251007T153000
DTSTAMP:20260423T203407
CREATED:20250110T205615Z
LAST-MODIFIED:20250915T140205Z
UID:11427-1759845600-1759851000@oarc.rutgers.edu
SUMMARY:R for data analysis: A tidyverse approach
DESCRIPTION:This session introduces the R statistical software environment\, basic methods of data analysis\, and the “tidyverse.” While R is much more than the tidyverse\, the development of the tidyverse packages\, led by RStudio\, has provided a powerful and connected toolkit to get started using R. Note that graphics and data manipulation are covered in subsequent sessions. \nSupplemental materials are available. \n			\n				Learn more and register
URL:https://oarc.rutgers.edu/event/r-for-data-analysis-a-tidyverse-approach-3/
END:VEVENT
END:VCALENDAR