BEGIN:VCALENDAR
VERSION:2.0
PRODID:-//Office of Advanced Research Computing - ECPv6.0.10//NONSGML v1.0//EN
CALSCALE:GREGORIAN
METHOD:PUBLISH
X-ORIGINAL-URL:https://oarc.rutgers.edu
X-WR-CALDESC:Events for Office of Advanced Research Computing
REFRESH-INTERVAL;VALUE=DURATION:PT1H
X-Robots-Tag:noindex
X-PUBLISHED-TTL:PT1H
BEGIN:VTIMEZONE
TZID:America/New_York
BEGIN:DAYLIGHT
TZOFFSETFROM:-0500
TZOFFSETTO:-0400
TZNAME:EDT
DTSTART:20250309T070000
END:DAYLIGHT
BEGIN:STANDARD
TZOFFSETFROM:-0400
TZOFFSETTO:-0500
TZNAME:EST
DTSTART:20251102T060000
END:STANDARD
END:VTIMEZONE
BEGIN:VEVENT
DTSTART;TZID=America/New_York:20251014T140000
DTEND;TZID=America/New_York:20251014T153000
DTSTAMP:20260422T092513
CREATED:20250110T185313Z
LAST-MODIFIED:20250915T161747Z
UID:11404-1760450400-1760455800@oarc.rutgers.edu
SUMMARY:Data Analysis 2 (statistical tests\, regression\, sampling\, bootstrap\, and more + comparison with Python)
DESCRIPTION:This workshop reviews statistical tests\, regression\, sampling and bootstrap methods\, and more. \nThe focus here is on implementing statistics using R\, with a comparison to Python techniques for accomplishing similar tasks. \nPart of the Data Topics series of workshops.\nWorkshop conducted via Zoom. \nSupplemental materials are available. \n			\n				Learn more and register
URL:https://oarc.rutgers.edu/event/data-analysis-2-statistical-tests-sampling-bootstrap-and-more-comparison-with-python/
END:VEVENT
END:VCALENDAR