BEGIN:VCALENDAR
VERSION:2.0
PRODID:-//Office of Advanced Research Computing - ECPv6.0.10//NONSGML v1.0//EN
CALSCALE:GREGORIAN
METHOD:PUBLISH
X-ORIGINAL-URL:https://oarc.rutgers.edu
X-WR-CALDESC:Events for Office of Advanced Research Computing
REFRESH-INTERVAL;VALUE=DURATION:PT1H
X-Robots-Tag:noindex
X-PUBLISHED-TTL:PT1H
BEGIN:VTIMEZONE
TZID:America/New_York
BEGIN:DAYLIGHT
TZOFFSETFROM:-0500
TZOFFSETTO:-0400
TZNAME:EDT
DTSTART:20250309T070000
END:DAYLIGHT
BEGIN:STANDARD
TZOFFSETFROM:-0400
TZOFFSETTO:-0500
TZNAME:EST
DTSTART:20251102T060000
END:STANDARD
END:VTIMEZONE
BEGIN:VEVENT
DTSTART;TZID=America/New_York:20251015T113000
DTEND;TZID=America/New_York:20251015T124500
DTSTAMP:20260421T103459
CREATED:20231218T125112Z
LAST-MODIFIED:20250915T140429Z
UID:9610-1760527800-1760532300@oarc.rutgers.edu
SUMMARY:ArcGIS StoryMaps\, WebApps and Dashboards
DESCRIPTION:Most people can relate to and understand “where” when sharing information. In this short\, interactive workshop\, we will explore telling the story of your research using StoryMaps or another of the web applications that integrate work done in ArcGIS Online. Previous knowledge of geographic information systems (GIS) is not required. \nMake sure to register for an ArcGIS Online account before the start of the workshop. \n			\n				Learn more and register
URL:https://oarc.rutgers.edu/event/arcgis-storymaps-webapps-dashboards/
END:VEVENT
BEGIN:VEVENT
DTSTART;TZID=America/New_York:20251015T153000
DTEND;TZID=America/New_York:20251015T170000
DTSTAMP:20260421T103500
CREATED:20250328T200450Z
LAST-MODIFIED:20250915T141640Z
UID:11540-1760542200-1760547600@oarc.rutgers.edu
SUMMARY:R Data Wrangling with dplyr\, tidyr\, readr\, and more
DESCRIPTION:Some of the tidyverse’s most powerful features are its abilities to import\, filter\, and otherwise manipulate data.  This session reviews major packages within the tidyverse that relate to the essential data handling steps required before (and during) data analysis. \nSupplemental materials are available. \n			\n				Learn more and register
URL:https://oarc.rutgers.edu/event/r-data-wrangling-with-dplyr-tidyr-readr-and-more-2/
END:VEVENT
END:VCALENDAR