BEGIN:VCALENDAR
VERSION:2.0
PRODID:-//Office of Advanced Research Computing - ECPv6.0.10//NONSGML v1.0//EN
CALSCALE:GREGORIAN
METHOD:PUBLISH
X-ORIGINAL-URL:https://oarc.rutgers.edu
X-WR-CALDESC:Events for Office of Advanced Research Computing
REFRESH-INTERVAL;VALUE=DURATION:PT1H
X-Robots-Tag:noindex
X-PUBLISHED-TTL:PT1H
BEGIN:VTIMEZONE
TZID:America/New_York
BEGIN:DAYLIGHT
TZOFFSETFROM:-0500
TZOFFSETTO:-0400
TZNAME:EDT
DTSTART:20250309T070000
END:DAYLIGHT
BEGIN:STANDARD
TZOFFSETFROM:-0400
TZOFFSETTO:-0500
TZNAME:EST
DTSTART:20251102T060000
END:STANDARD
END:VTIMEZONE
BEGIN:VEVENT
DTSTART;TZID=America/New_York:20251020T120000
DTEND;TZID=America/New_York:20251020T130000
DTSTAMP:20260420T113519
CREATED:20240118T210656Z
LAST-MODIFIED:20251007T182131Z
UID:9758-1760961600-1760965200@oarc.rutgers.edu
SUMMARY:Data science basics: introduction to Python 2 - from basics to data
DESCRIPTION:Once you’ve taken your first steps with Python\, it’s time to do more. In this workshop\, we’ll go further into how Python can help you work with information. You’ll learn how to handle collections of data\, write simple reusable code\, and explore how to pull meaning out of datasets. By working hands-on with examples\, you’ll see how coding can become a useful everyday tool\, not just something for computer scientists. \n			\n				Learn more and register
URL:https://oarc.rutgers.edu/event/data-science-basics-introduction-to-python-2/
END:VEVENT
END:VCALENDAR