BEGIN:VCALENDAR
VERSION:2.0
PRODID:-//Office of Advanced Research Computing - ECPv6.0.10//NONSGML v1.0//EN
CALSCALE:GREGORIAN
METHOD:PUBLISH
X-ORIGINAL-URL:https://oarc.rutgers.edu
X-WR-CALDESC:Events for Office of Advanced Research Computing
REFRESH-INTERVAL;VALUE=DURATION:PT1H
X-Robots-Tag:noindex
X-PUBLISHED-TTL:PT1H
BEGIN:VTIMEZONE
TZID:America/New_York
BEGIN:DAYLIGHT
TZOFFSETFROM:-0500
TZOFFSETTO:-0400
TZNAME:EDT
DTSTART:20250309T070000
END:DAYLIGHT
BEGIN:STANDARD
TZOFFSETFROM:-0400
TZOFFSETTO:-0500
TZNAME:EST
DTSTART:20251102T060000
END:STANDARD
END:VTIMEZONE
BEGIN:VEVENT
DTSTART;TZID=America/New_York:20251021T140000
DTEND;TZID=America/New_York:20251021T153000
DTSTAMP:20260421T063846
CREATED:20240119T192030Z
LAST-MODIFIED:20250915T162157Z
UID:9863-1761055200-1761060600@oarc.rutgers.edu
SUMMARY:R graphics with ggplot2
DESCRIPTION:The ggplot2 package from the tidyverse provides extensive and flexible graphical capabilities within a consistent framework.  This session introduces the main features of ggplot2. Some prior familiarity with R is assumed (packages\, structure\, syntax)\, but the presentation can be followed without this background. \nSupplemental materials are available. \n			\n				Learn more and register
URL:https://oarc.rutgers.edu/event/r-graphics-with-ggplot2/
END:VEVENT
END:VCALENDAR