BEGIN:VCALENDAR
VERSION:2.0
PRODID:-//Office of Advanced Research Computing - ECPv6.0.10//NONSGML v1.0//EN
CALSCALE:GREGORIAN
METHOD:PUBLISH
X-ORIGINAL-URL:https://oarc.rutgers.edu
X-WR-CALDESC:Events for Office of Advanced Research Computing
REFRESH-INTERVAL;VALUE=DURATION:PT1H
X-Robots-Tag:noindex
X-PUBLISHED-TTL:PT1H
BEGIN:VTIMEZONE
TZID:America/New_York
BEGIN:DAYLIGHT
TZOFFSETFROM:-0500
TZOFFSETTO:-0400
TZNAME:EDT
DTSTART:20250309T070000
END:DAYLIGHT
BEGIN:STANDARD
TZOFFSETFROM:-0400
TZOFFSETTO:-0500
TZNAME:EST
DTSTART:20251102T060000
END:STANDARD
END:VTIMEZONE
BEGIN:VEVENT
DTSTART;TZID=America/New_York:20251024T143000
DTEND;TZID=America/New_York:20251024T160000
DTSTAMP:20260421T040058
CREATED:20240118T205021Z
LAST-MODIFIED:20251007T182450Z
UID:9751-1761316200-1761321600@oarc.rutgers.edu
SUMMARY:Python foundations
DESCRIPTION:This workshop introduces the core concepts of Python programming\, including syntax\, data types\, loops\, and functions. Participants will gain confidence in writing simple scripts and working with Python’s basic structures. \n			\n				Learn more and register
URL:https://oarc.rutgers.edu/event/python-foundations/
END:VEVENT
END:VCALENDAR