BEGIN:VCALENDAR
VERSION:2.0
PRODID:-//Office of Advanced Research Computing - ECPv6.0.10//NONSGML v1.0//EN
CALSCALE:GREGORIAN
METHOD:PUBLISH
X-ORIGINAL-URL:https://oarc.rutgers.edu
X-WR-CALDESC:Events for Office of Advanced Research Computing
REFRESH-INTERVAL;VALUE=DURATION:PT1H
X-Robots-Tag:noindex
X-PUBLISHED-TTL:PT1H
BEGIN:VTIMEZONE
TZID:America/New_York
BEGIN:DAYLIGHT
TZOFFSETFROM:-0500
TZOFFSETTO:-0400
TZNAME:EDT
DTSTART:20260308T070000
END:DAYLIGHT
BEGIN:STANDARD
TZOFFSETFROM:-0400
TZOFFSETTO:-0500
TZNAME:EST
DTSTART:20261101T060000
END:STANDARD
END:VTIMEZONE
BEGIN:VEVENT
DTSTART;TZID=America/New_York:20260223T100000
DTEND;TZID=America/New_York:20260223T113000
DTSTAMP:20260420T162454
CREATED:20260219T163237Z
LAST-MODIFIED:20260219T163246Z
UID:12017-1771840800-1771846200@oarc.rutgers.edu
SUMMARY:REDCap Migration Workshop
DESCRIPTION:This REDCap Migration workshop will demonstrate the self-service processes for moving REDCap projects from one instance to another. \nThe demonstration will be followed by a question/answer period and sharing of resources. \nEach session will have a limited number of seats. \n			\n				Register here\n			\n				\n				\n				\n				\n				Important note: Please confirm your registration via the reply email. Check that the date is correct\, then scroll to and click the RSVP button. \nContact Redcap Help at: redcap-help@oarc.rutgers.edu with any questions.
URL:https://oarc.rutgers.edu/event/redcap-migration-workshop-2-23-26/
END:VEVENT
END:VCALENDAR