BEGIN:VCALENDAR
VERSION:2.0
PRODID:-//Office of Advanced Research Computing - ECPv6.0.10//NONSGML v1.0//EN
CALSCALE:GREGORIAN
METHOD:PUBLISH
X-ORIGINAL-URL:https://oarc.rutgers.edu
X-WR-CALDESC:Events for Office of Advanced Research Computing
REFRESH-INTERVAL;VALUE=DURATION:PT1H
X-Robots-Tag:noindex
X-PUBLISHED-TTL:PT1H
BEGIN:VTIMEZONE
TZID:America/New_York
BEGIN:DAYLIGHT
TZOFFSETFROM:-0500
TZOFFSETTO:-0400
TZNAME:EDT
DTSTART:20220313T070000
END:DAYLIGHT
BEGIN:STANDARD
TZOFFSETFROM:-0400
TZOFFSETTO:-0500
TZNAME:EST
DTSTART:20221106T060000
END:STANDARD
END:VTIMEZONE
BEGIN:VEVENT
DTSTART;TZID=America/New_York:20220405T140000
DTEND;TZID=America/New_York:20220405T170000
DTSTAMP:20260420T085615
CREATED:20220316T194122Z
LAST-MODIFIED:20221128T155213Z
UID:6855-1649167200-1649178000@oarc.rutgers.edu
SUMMARY:Intro to Amarel Cluster
DESCRIPTION:Amarel account: Apply here as soon as possible. You must have an Amarel account set up before the workshop.  \nVPN setup: You have to be connected on Rutgers’ network or be on VPN to access Amarel resources. \nSSH setup: Windows users must install an SSH client like PuTTY or MobaXterm. Alternatively\, Windows 10 users can install the complete Windows Subsystem for Linux. \nWorkshop content: This fast-paced 3-hour short course offers a brief introduction to using a Linux cluster. The goal is to help everyone make those first few steps toward productively using a Linux cluster for research — all members of the Rutgers community have free access to the Amarel Cluster. The workshop covers the basics of HPC Cluster\, Web access to the cluster\, SLURM\, File System and Storage\, and Setting up environment for the Software Stacks. \n**Note** Just observing is welcome\, but to participate in hands-on activities\, you must have an Amarel account setup before the workshop. Please complete our web-based form at least 24 hours before the workshop (do this as soon as possible). \nIf you have questions or need help\, please email Paul Arias.
URL:https://oarc.rutgers.edu/event/intro-to-amarel-cluster-4-5-22/
END:VEVENT
BEGIN:VEVENT
DTSTART;TZID=America/New_York:20220408T123000
DTEND;TZID=America/New_York:20220408T143000
DTSTAMP:20260420T085615
CREATED:20220314T205437Z
LAST-MODIFIED:20220331T165613Z
UID:6828-1649421000-1649428200@oarc.rutgers.edu
SUMMARY:Data Visualization with Python
DESCRIPTION:Data Visualization with Python Jupyter Notebooks: A Hands-on Introduction \nPresenters: Dr. Bala Desinghu\, Dr. Abhishek Tripathi and Dr. Jim Samuel \nThe session will consist of brief presentations\, with around 100 minutes of interactive work-along demo of data visualization with Jupyter Notebooks\, and end with Q&A. Participants will learn to create data visualizations and can opt to either access Rutgers University’s high-performance computing (HPC) platform/cloud or to run the code locally on their own computers. \n\nDr. Bala Desinghu\, Senior Scientist from OARC\, Rutgers University will provide an interactive introduction to data visualization with insights on the use of high-performance computing.\nDr. Abhishek Tripathi\, Associate Professor\, School of Business\, TCNJ\, will introduce the use of Python libraries such as Seaborn\, Plotly and Cufflinks for creating advanced and intera​ctive data visualizations.\nDr. Jim Samuel\, Associate Prof​e​ssor\, Rutgers Bloustein School\, will conclude the session with insights on the use of Artificial Intelligence for visualizations and language data visualizations.\n\nThis workshop is hosted by the RUCI Lab\, EJ Bloustein School and the Office of Advanced Research Computing (OARC)\, Rutgers University\, organized by Dr. Bala Desinghu and Dr. Jim Samuel in collaboration with our partners\, the Eastern Regional Network (ERN)\, the Northeast Big Data Innovation Hub (NEBDI Hub)\, and the New Jersey Big Data Alliance (NJBDA). \nThis workshop is sponsored by the MPI (Master of Public Informatics) Program at Bloustein. \n			\n				Register here
URL:https://oarc.rutgers.edu/event/data-visualization-with-python/
END:VEVENT
BEGIN:VEVENT
DTSTART;TZID=America/New_York:20220419T080000
DTEND;TZID=America/New_York:20220420T190000
DTSTAMP:20260420T085615
CREATED:20220105T213817Z
LAST-MODIFIED:20220105T213826Z
UID:6329-1650355200-1650481200@oarc.rutgers.edu
SUMMARY:Amarel monthly maintenance
DESCRIPTION:Each maintenance period is expected to begin at about 08:00 ET on the first day and end by about 19:00 ET on the 2nd day. \n2022 anticipated maintenance schedule (all dates subject to change):\nJAN 11 & 12 (one week earlier)\nFEB 15 & 16\nMAR 15 & 16\nAPR 19 & 20\nMAY 17 & 18\nJUN 21 & 22\nJUL 19 & 20\nAUG 16 & 17\nSEP 20 & 21\nOCT 18 & 19\nNOV 15 & 16\nDEC 20 & 21 \nMaintenance is usually scheduled for weekdays because it often involves coordination with University facilities teams or external vendors. There may also be times when Amarel must be unavailable due to externally-scheduled data center facilities\, power\, or telecommunications maintenance. When this happens\, we will do our best to avoid adding to a month’s downtime with our own maintenance work (e.g.\, by working in parallel or postponing some tasks). \n			\n				Visit Amarel system status for more information
URL:https://oarc.rutgers.edu/event/amarel-monthly-maintenance-4-19-22/
END:VEVENT
BEGIN:VEVENT
DTSTART;TZID=America/New_York:20220422T140000
DTEND;TZID=America/New_York:20220422T170000
DTSTAMP:20260420T085615
CREATED:20220401T145307Z
LAST-MODIFIED:20221128T155304Z
UID:6954-1650636000-1650646800@oarc.rutgers.edu
SUMMARY:AI for Protein Design - AlphaFold2 and RoseTTAFold
DESCRIPTION:Amarel account: Apply here as soon as possible. You must have an Amarel account set up before the workshop.  \nVPN setup: You have to be connected on Rutgers’ network or be on VPN to access Amarel resources. \nSSH setup: Windows users must install an SSH client like PuTTY or MobaXterm. Alternatively\, Windows 10 users can install the complete Windows Subsystem for Linux. \nWorkshop content: This workshop will present a broad overview and hands-on session on how Artificial Intelligence/Machine Learning (AI/ML) methods are being used for de novo protein structure prediction and provide hands-on experience with both AlphaFold2 and RoseTTAFold. \n**Note** Just observing is welcome\, but to participate in hands-on activities\, you must have an Amarel account setup before the workshop. Please complete our web-based form at least 24 hours before the workshop (do this as soon as possible). \nIf you have questions or need help\, please email Bala Desinghu.
URL:https://oarc.rutgers.edu/event/ai-for-protein-design-4-22-22/
END:VEVENT
END:VCALENDAR