BEGIN:VCALENDAR
VERSION:2.0
PRODID:-//Office of Advanced Research Computing - ECPv6.0.10//NONSGML v1.0//EN
CALSCALE:GREGORIAN
METHOD:PUBLISH
X-ORIGINAL-URL:https://oarc.rutgers.edu
X-WR-CALDESC:Events for Office of Advanced Research Computing
REFRESH-INTERVAL;VALUE=DURATION:PT1H
X-Robots-Tag:noindex
X-PUBLISHED-TTL:PT1H
BEGIN:VTIMEZONE
TZID:America/New_York
BEGIN:DAYLIGHT
TZOFFSETFROM:-0500
TZOFFSETTO:-0400
TZNAME:EDT
DTSTART:20230312T070000
END:DAYLIGHT
BEGIN:STANDARD
TZOFFSETFROM:-0400
TZOFFSETTO:-0500
TZNAME:EST
DTSTART:20231105T060000
END:STANDARD
END:VTIMEZONE
BEGIN:VEVENT
DTSTART;TZID=America/New_York:20230203T140000
DTEND;TZID=America/New_York:20230203T160000
DTSTAMP:20260424T015529
CREATED:20220809T203834Z
LAST-MODIFIED:20220809T203911Z
UID:7477-1675432800-1675440000@oarc.rutgers.edu
SUMMARY:AI for Protein Design
DESCRIPTION:Register to attend this workshop at the bottom of this page. Zoom link will be emailed after filling out the registration form. \nWorkshop content: This workshop will present a broad overview and hands-on session on how Artificial Intelligence/Machine Learning (AI/ML) methods are being used for de novo protein structure prediction and provide hands-on experience with both AlphaFold2 and RoseTTAFold. \nIf you have questions or need help\, please email Bala Desinghu. \nAmarel account: Apply here as soon as possible. You must have an Amarel account set up before the workshop. \nVPN setup: You have to be connected on Rutgers’ network or be on VPN to access Amarel resources. \nSSH setup: Windows users must install an SSH client like PuTTY or MobaXterm. Alternatively\, Windows 10 users can install the complete Windows Subsystem for Linux. \nRegister to attend the workshop:\n	Notice: JavaScript is required for this content.
URL:https://oarc.rutgers.edu/event/ai-for-protein-design-2-3-23/
END:VEVENT
BEGIN:VEVENT
DTSTART;TZID=America/New_York:20230210T120000
DTEND;TZID=America/New_York:20230210T130000
DTSTAMP:20260424T015529
CREATED:20230201T184337Z
LAST-MODIFIED:20230201T185014Z
UID:8298-1676030400-1676034000@oarc.rutgers.edu
SUMMARY:Introduction to Geographic Information System (GIS) with ArcGIS Online
DESCRIPTION:In this short\, interactive workshop\, we will focus on ArcGIS Online basics\, explore the interface\, add and visualize data\, explore the analysis tools and share a web map.   \n			\n				Learn more and register
URL:https://oarc.rutgers.edu/event/geographic-information-system-gis-arcgis-online-2-10-23/
CATEGORIES:Research
END:VEVENT
BEGIN:VEVENT
DTSTART;TZID=America/New_York:20230217T120000
DTEND;TZID=America/New_York:20230217T130000
DTSTAMP:20260424T015529
CREATED:20230201T185908Z
LAST-MODIFIED:20230201T190118Z
UID:8304-1676635200-1676638800@oarc.rutgers.edu
SUMMARY:Geospatial Data in the Big Ten Academic Alliance (BTAA) Geoportal
DESCRIPTION:The Big Ten Academic Alliance (BTAA) Geoportal is a discovery tool that connects scholars to regional geospatial resources including GIS datasets\, web services\, and digitized historical maps. Rutgers is a member of the BTAA Geopatial Information Network (BTAA-GIN) and contributes to this endeavor. \nIn this introductory workshop to the BTAA Geoportal\, we’ll explore the varieties of regional resources\, how to search the portal\, included documentation and support\, as well as discuss how the Geoportal might enhance your research. \n			\n				Learn more and register
URL:https://oarc.rutgers.edu/event/geospatial-data-in-the-big-ten-academic-alliance-btaa-geoportal-2-17-23/
CATEGORIES:Research
END:VEVENT
BEGIN:VEVENT
DTSTART;TZID=America/New_York:20230221T080000
DTEND;TZID=America/New_York:20230222T190000
DTSTAMP:20260424T015529
CREATED:20230217T171955Z
LAST-MODIFIED:20230217T175613Z
UID:8412-1676966400-1677092400@oarc.rutgers.edu
SUMMARY:Amarel monthly maintenance
DESCRIPTION:Usually scheduled for every 3rd Tuesday and Wednesday of the month from 08:00 ET on the first day till 19:00 ET on the second day. \n2023 anticipated maintenance schedule (all dates subject to change):\nJAN 24-25 (1 week late)\nFEB 21-22\nMAR 14 -15 (1 week earlier\, spring break) \nAPR 18-19\nMAY 16-17\nJUN 20-21\nJUL 18-19\nAUG 15-16\nSEP 19-20\nOCT 17-18\nNOV 21-22\nDEC 19-20 \nMaintenance is usually scheduled for weekdays because it often involves coordination with University facilities teams or external vendors. There may also be times when Amarel must be unavailable due to externally-scheduled data center facilities\, power\, or telecommunications maintenance. When this happens\, we will do our best to avoid adding to a month’s downtime with our own maintenance work (e.g.\, by working in parallel or postponing some tasks). \n			\n				Visit Amarel system status for more information
URL:https://oarc.rutgers.edu/event/amarel-monthly-maintenance-2-21-23/
END:VEVENT
END:VCALENDAR