BEGIN:VCALENDAR
VERSION:2.0
PRODID:-//Office of Advanced Research Computing - ECPv6.0.10//NONSGML v1.0//EN
CALSCALE:GREGORIAN
METHOD:PUBLISH
X-ORIGINAL-URL:https://oarc.rutgers.edu
X-WR-CALDESC:Events for Office of Advanced Research Computing
REFRESH-INTERVAL;VALUE=DURATION:PT1H
X-Robots-Tag:noindex
X-PUBLISHED-TTL:PT1H
BEGIN:VTIMEZONE
TZID:America/New_York
BEGIN:DAYLIGHT
TZOFFSETFROM:-0500
TZOFFSETTO:-0400
TZNAME:EDT
DTSTART:20240310T070000
END:DAYLIGHT
BEGIN:STANDARD
TZOFFSETFROM:-0400
TZOFFSETTO:-0500
TZNAME:EST
DTSTART:20241103T060000
END:STANDARD
END:VTIMEZONE
BEGIN:VEVENT
DTSTART;TZID=America/New_York:20240116T120000
DTEND;TZID=America/New_York:20240116T131500
DTSTAMP:20260424T030238
CREATED:20231218T001817Z
LAST-MODIFIED:20231218T002855Z
UID:8296-1705406400-1705410900@oarc.rutgers.edu
SUMMARY:Introduction to the Geographic Information Systems (GIS) with ArcGIS Online
DESCRIPTION:A Geographic Information System (GIS) can be a very useful tool for your research by incorporating location when exploring questions. \nIn this short\, interactive workshop\, we will focus on ArcGIS Online basics\, explore the interface\, add and visualize data. We will explore the analysis tools\, hosted feature services\, collaboration and sharing. Previous knowledge of geographic information systems is not expected. \nMake sure to register for an ArcGIS Online account before the start of the workshop. \n			\n				Learn more and register
URL:https://oarc.rutgers.edu/event/introduction-to-the-geographic-information-systems-gis-with-arcgis-online/
END:VEVENT
BEGIN:VEVENT
DTSTART;TZID=America/New_York:20240119T120000
DTEND;TZID=America/New_York:20240119T131500
DTSTAMP:20260424T030238
CREATED:20231218T011201Z
LAST-MODIFIED:20231218T012133Z
UID:9556-1705665600-1705670100@oarc.rutgers.edu
SUMMARY:Intro to GIS with ArcGIS Pro
DESCRIPTION:A Geographic Information System (GIS) can be a very useful tool for your research by incorporating location when exploring questions. \nIn this short\, interactive workshop\, we will focus on ArcGIS Pro basics\, explore the interface\, add and visualize data\, create a map layout which we can either export as a PDF or share as a web map. Previous knowledge of geographic information systems (GIS) is not expected. \nMake sure to register for an ArcGIS Online account before the start of the workshop. \nPlease also download the ArcGIS Pro application. This requires a Microsoft Windows operating system. Details and information for installing the application may be found at the Rutgers Software Portal. The application is also available through the Rutgers Virtual Computer Labs. An ArcGIS Online account is needed to log into ArcPro. \n			\n				Learn more and register
URL:https://oarc.rutgers.edu/event/intro-to-gis-with-arcgis-pro/
END:VEVENT
BEGIN:VEVENT
DTSTART;TZID=America/New_York:20240119T130000
DTEND;TZID=America/New_York:20240119T160000
DTSTAMP:20260424T030238
CREATED:20231216T152650Z
LAST-MODIFIED:20231216T152919Z
UID:9526-1705669200-1705680000@oarc.rutgers.edu
SUMMARY:Basics of Linux Command Line
DESCRIPTION:Register to attend this workshop at the bottom of this page. Zoom link will be emailed after filling out the registration form. \nWorkshop content: This  workshop offers a brief introduction to using the Linux operating system\, focusing on command-line operations. The primary objective is to provide beginner-level familiarity with using a Linux system for common research computing tasks. Linux systems (e.g.\, workstations\, remote servers\, computing clusters) can be thought of as the foundation of research computing. \nAmarel account: Apply here as soon as possible. You must have an Amarel account set up before the workshop. \nVPN setup: You have to be connected on Rutgers’ network or be on VPN to access Amarel resources. \nSSH setup: Windows users must install an SSH client like PuTTY or MobaXterm. Alternatively\, Windows 10 users can install the complete Windows Subsystem for Linux. \nIf you have questions or need help\, please email Bala Desinghu. \nRegister to attend the workshop: \n	Notice: JavaScript is required for this content.
URL:https://oarc.rutgers.edu/event/basics-of-linux-command-line/
END:VEVENT
BEGIN:VEVENT
DTSTART;TZID=America/New_York:20240123T120000
DTEND;TZID=America/New_York:20240123T131500
DTSTAMP:20260424T030238
CREATED:20231218T005900Z
LAST-MODIFIED:20231218T013239Z
UID:9546-1706011200-1706015700@oarc.rutgers.edu
SUMMARY:Introduction to GIS with ArcGIS Pro
DESCRIPTION:A Geographic Information System (GIS) can be a very useful tool for your research by incorporating location when exploring questions. \nIn this short\, interactive workshop\, we will focus on ArcGIS Pro basics\, explore the interface\, add and visualize data\, create a map layout which we can either export as a PDF or share as a web map. Previous knowledge of geographic information systems (GIS) is not expected. \nMake sure to register for an ArcGIS Online account before the start of the workshop. \nPlease also download the ArcGIS Pro application. This requires a Microsoft Windows operating system. Details and information for installing the application may be found at the Rutgers Software Portal. The application is also available through the Rutgers Virtual Computer Labs. An ArcGIS Online account is needed to log into ArcPro. \n			\n				Learn more and register
URL:https://oarc.rutgers.edu/event/introduction-to-gis-with-arcgis-pro/
END:VEVENT
BEGIN:VEVENT
DTSTART;TZID=America/New_York:20240126T120000
DTEND;TZID=America/New_York:20240126T131500
DTSTAMP:20260424T030238
CREATED:20231218T003825Z
LAST-MODIFIED:20231218T004938Z
UID:9543-1706270400-1706274900@oarc.rutgers.edu
SUMMARY:Introduction to the Geographic Information Systems (GIS) with ArcGIS Online
DESCRIPTION:A Geographic Information System (GIS) can be a very useful tool for your research by incorporating location when exploring questions. \nIn this short\, interactive workshop\, we will focus on ArcGIS Online basics\, explore the interface\, add and visualize data. We will explore the analysis tools\, hosted feature services\, collaboration and sharing. Previous knowledge of geographic information systems is not expected. \nMake sure to register for an ArcGIS Online account before the start of the workshop. \n			\n				Learn more and register
URL:https://oarc.rutgers.edu/event/introduction-to-the-geographic-information-systems-gis-with-arcgis-online-2/
END:VEVENT
BEGIN:VEVENT
DTSTART;TZID=America/New_York:20240130T120000
DTEND;TZID=America/New_York:20240130T131500
DTSTAMP:20260424T030238
CREATED:20231218T013023Z
LAST-MODIFIED:20231218T021625Z
UID:9571-1706616000-1706620500@oarc.rutgers.edu
SUMMARY:Introduction to GIS with QGIS
DESCRIPTION:A Geographic Information System (GIS) can be a very useful tool for your research by incorporating location when exploring questions. \nIn this short\, interactive workshop\, we will focus on the open source geographic information system: QGIS3. We will explore the interface\, add and visualize data\, create a map layout\, explore plugins and support. Previous knowledge of GIS is not expected. \nPlease make sure to download QGIS here: \n			\n				Learn more and register
URL:https://oarc.rutgers.edu/event/introduction-to-gis-with-qgis/
END:VEVENT
BEGIN:VEVENT
DTSTART;TZID=America/New_York:20240130T150000
DTEND;TZID=America/New_York:20240130T163000
DTSTAMP:20260424T030238
CREATED:20240119T145553Z
LAST-MODIFIED:20240119T155925Z
UID:9842-1706626800-1706632200@oarc.rutgers.edu
SUMMARY:R for data analysis: a tidyverse approach
DESCRIPTION:This session introduces the R statistical software environment\, basic methods of data analysis\, and the “tidyverse.” While R is much more than the tidyverse\, the development of the tidyverse packages\, led by RStudio\, has provided a powerful and connected toolkit to get started using R. Note that graphics and data manipulation are covered in subsequent sessions. \n			\n				Learn more and register
URL:https://oarc.rutgers.edu/event/r-for-data-analysis-a-tidyverse-approach/
END:VEVENT
END:VCALENDAR