BEGIN:VCALENDAR
VERSION:2.0
PRODID:-//Office of Advanced Research Computing - ECPv6.0.10//NONSGML v1.0//EN
CALSCALE:GREGORIAN
METHOD:PUBLISH
X-ORIGINAL-URL:https://oarc.rutgers.edu
X-WR-CALDESC:Events for Office of Advanced Research Computing
REFRESH-INTERVAL;VALUE=DURATION:PT1H
X-Robots-Tag:noindex
X-PUBLISHED-TTL:PT1H
BEGIN:VTIMEZONE
TZID:America/New_York
BEGIN:DAYLIGHT
TZOFFSETFROM:-0500
TZOFFSETTO:-0400
TZNAME:EDT
DTSTART:20240310T070000
END:DAYLIGHT
BEGIN:STANDARD
TZOFFSETFROM:-0400
TZOFFSETTO:-0500
TZNAME:EST
DTSTART:20241103T060000
END:STANDARD
END:VTIMEZONE
BEGIN:VEVENT
DTSTART;TZID=America/New_York:20240503T130000
DTEND;TZID=America/New_York:20240503T160000
DTSTAMP:20260424T074557
CREATED:20231219T180054Z
LAST-MODIFIED:20231219T180811Z
UID:9643-1714741200-1714752000@oarc.rutgers.edu
SUMMARY:Machine Learning with Python and Scikit
DESCRIPTION:Register to attend this workshop at the bottom of this page. Zoom link will be emailed after filling out the registration form. \nMachine learning (ML) methods are widely adopted by the academia and industry for applications in science\, engineering\, healthcare\, and humanities. One of the greatest advantages of ML is that they are pretty general and applicable for predictive analytics in many fields. For example\, if someone learned how to apply ML methods to classify animal images\, they can apply the same set of protocols in classifying birds or cars or motorboats. To apply ML for a specific problem\, the practitioners don’t have to go through all the complex mathematics or a lot of statistics but they need to learn the best practices to train and validate the models. \nIn this workshop\, after a brief overview\, we will focus on doing hands-on training in applying ML models on various data types including image\, text\, and time series. We will work through the use cases of classification and regression problems and discuss where to apply supervised or unsupervised methods. \nObjective of the workshop \n\nUnderstand supervised and unsupervised methods\nDefine metrics for classification vs regression\nFind out which features are important in a given dataset\nLearn to apply ML models such as Decision Trees\, Random Forest\, and Support Vector Machines\nPerform clustering and dimensionality reductions (PCA\, t-sne\, K-means\, etc.)\nSearch the parameter space – hyperparameter optimization\n\nAmarel account: Apply here as soon as possible. You must have an Amarel account set up before the workshop. \nVPN setup: You have to be connected on Rutgers’ network or be on VPN to access Amarel resources. \nSSH setup: Windows users must install an SSH client like PuTTY or MobaXterm. Alternatively\, Windows 10 users can install the complete Windows Subsystem for Linux. \nIf you have questions or need help\, please email Bala Desinghu. \nRegister to attend the workshop:\n \n	Notice: JavaScript is required for this content.
URL:https://oarc.rutgers.edu/event/machine-learning-with-python-and-scikit/
END:VEVENT
BEGIN:VEVENT
DTSTART;TZID=America/New_York:20240521T080000
DTEND;TZID=America/New_York:20240522T235900
DTSTAMP:20260424T074558
CREATED:20241212T215733Z
LAST-MODIFIED:20241212T220020Z
UID:9511-1716278400-1716422340@oarc.rutgers.edu
SUMMARY:Amarel monthly maintenance
DESCRIPTION:Maintenance is usually scheduled for weekdays because it often involves coordination with university facilities teams or external vendors. There may also be times when Amarel must be unavailable due to externally-scheduled data center facilities\, power\, or telecommunications maintenance. When this happens\, we will do our best to avoid adding to a month’s downtime with our own maintenance work (e.g.\, by working in parallel or postponing some tasks). \n			\n				Visit Amarel system status for more information
URL:https://oarc.rutgers.edu/event/amarel-monthly-maintenance-13/
END:VEVENT
END:VCALENDAR